BEGIN:VCALENDAR
VERSION:2.0
PRODID:-//Vail Valley Charitable Fund - ECPv5.16.4//NONSGML v1.0//EN
CALSCALE:GREGORIAN
METHOD:PUBLISH
X-WR-CALNAME:Vail Valley Charitable Fund
X-ORIGINAL-URL:https://vvcf.org
X-WR-CALDESC:Events for Vail Valley Charitable Fund
BEGIN:VTIMEZONE
TZID:America/Denver
BEGIN:DAYLIGHT
TZOFFSETFROM:-0700
TZOFFSETTO:-0600
TZNAME:MDT
DTSTART:20260308T090000
END:DAYLIGHT
BEGIN:STANDARD
TZOFFSETFROM:-0600
TZOFFSETTO:-0700
TZNAME:MST
DTSTART:20261101T080000
END:STANDARD
END:VTIMEZONE
BEGIN:VEVENT
DTSTART;TZID=America/Denver:20260620T090000
DTEND;TZID=America/Denver:20260620T120000
DTSTAMP:20260419T232538
CREATED:20260318T180033Z
LAST-MODIFIED:20260318T234025Z
UID:3135-1781946000-1781956800@vvcf.org
SUMMARY:Beaver Creek Summer Solstice 10K\, 5K and Kid's Fun Run
DESCRIPTION:Coinciding with the longest day of the year\, the Summer Solstice Trail Run is arguably the most enjoyable race in the Vail Trail Running Series. Beginning and ending in the lawn in front of the Beaver Creek Chophouse adjacent to the Centennial lift in the heart of Beaver Creek\, Colorado. \nKeep a look out for our beautiful state flower\, the columbine! Enjoy some breathtaking views and smell the wildflowers in full bloom as you traverse the World Class Beaver Creek Ski Resort. Runners will enjoy some of Beaver Creek’s best trails\, including Aspen Glade and Allie’s Way. This rite of summer is not to be missed. \nJune 20\, 2026 | Beaver Creek adjacent to Centennial Lift\nKid’s Fun Run at 9 a.m. | 10K at 9:15 a.m. | 5K at 9:30 a.m.*\n*Date\, location and time are subject to change \nRegister HERE!
URL:https://vvcf.org/event/beaver-creek-summer-solstice-10k-5k-and-kids-fun-run/
LOCATION:Beaver Creek\, CO
ATTACH;FMTTYPE=image/jpeg:https://vvcf.org/wp-content/uploads/2025/02/Summer-Solstice-2023.jpg
END:VEVENT
BEGIN:VEVENT
DTSTART;TZID=America/Denver:20260711T070000
DTEND;TZID=America/Denver:20260711T130000
DTSTAMP:20260419T232538
CREATED:20260318T210033Z
LAST-MODIFIED:20260319T002917Z
UID:3129-1783753200-1783774800@vvcf.org
SUMMARY:LG TRI: Splash Grind Sprint
DESCRIPTION:Join us on Saturday\, July 11\, 2026\, for the exciting return of the 18th Annual LG Tri\, a sprint triathlon in the beautiful and spacious Vail Valley town of Gypsum\, Colorado! We will also be hosting the 14th annual Kids Tri\, so bring the whole family!\n\nWe’re excited to collaborate with Siena Valley Club in Gypsum\, CO\, a neighborhood just down the street from Eagle County Airport and a short drive from the world-class mountains of Vail and Beaver Creek. This is a great race for first-timers and seasoned pros alike.\nWe run this race in loving memory of Laura Genelin. Proceeds benefit Vail Valley Charitable Fund programs.\n\nAdult Course Details: The course begins at 7am and features a 500-yard open water swim\, a 12-mile bike ride up and down Valley Road\, and a 5K run within the Siena Valley Club development. Adults can race as individuals or form a team.\n\nKids Course Details: The kids’ course begins at 9:30 am and is divided into the two age groups below. Please arrive early\, as parking may be difficult due to the adult portion of the LG Tri event that starts at 7am.\n7-10 year olds: 40-yard open water swim\, 2.5-mile bike ride\, and a 3/4-mile run. NOTE: We welcome 6-year-old participants to this course if they are comfortable with the course description.\n11- to 13-year-olds: 100-yard open-water swim\, 5-mile bike ride\, and a 1-mile run. Register by the June 1st deadline to guarantee a dri-fit race shirt.\n\nRegistration prices for all categories will increase on May 1st\, June 15th\, and July 9th. Packet pickup will take place on Friday\, July 10th\, at Siena Valley Club from 5:00pm – 7:00pm.\n\nThe transition area opens at 6:00 am on race day\, so arrive early to secure your spot. The race begins at 7:00 am\, with the LGTri Kids event starting at 9:30 am. Join us for the awards at the finish line. Event capacity is limited\, so sign up now to guarantee your spot.\nFOR MORE INFO about the LG TRI or LG Kid’s Tri\, visit www.LGTRI.com\nLOCATION Siena Valley Club 1000 Brightwater Club Drive Gypsum\, CO 81637
URL:https://vvcf.org/event/lg-tri-splash-grind-sprint/
LOCATION:Siena Valley Club\, 1000 Brightwater Club Drive\, Gypsum\, CO\, 81637\, United States
ATTACH;FMTTYPE=image/png:https://vvcf.org/wp-content/uploads/2026/03/LG-TRI-Poster-2026.png
END:VEVENT
BEGIN:VEVENT
DTSTART;VALUE=DATE:20260807
DTEND;VALUE=DATE:20260809
DTSTAMP:20260419T232538
CREATED:20260320T154940Z
LAST-MODIFIED:20260320T154940Z
UID:3149-1786060800-1786233599@vvcf.org
SUMMARY:Beaver Creek Open
DESCRIPTION:Presented by Beaver Creek Tennis & Pickleball Center\, Stephanie Hart in partnership with LIV Sotheby’s International Realty\, and the Vail Valley Charitable Fund\, the 2nd Annual Beaver Creek Open will take place on August 7th and 8th and welcomes tennis and pickleball players and spectators alike for competition\, connection\, and community! This event will host over 144 players of all ability levels and include a semi-pro tournament with $1\,500 in prize money\, a silent auction\, and a celebratory reception with food\, beverages and live music. Registration details coming soon.
URL:https://vvcf.org/event/beaver-creek-open/
LOCATION:Beaver Creek Tennis & Pickle Ball Center\, Beaver Creek Village
ATTACH;FMTTYPE=image/png:https://vvcf.org/wp-content/uploads/2026/03/BC-Open-Kim-v.5.png
ORGANIZER;CN="Vail%20Valley%20Charitable%20Fund":MAILTO:brooke@vvcf.org
END:VEVENT
BEGIN:VEVENT
DTSTART;TZID=America/Denver:20260823T150000
DTEND;TZID=America/Denver:20260823T170000
DTSTAMP:20260419T232538
CREATED:20260319T170847Z
LAST-MODIFIED:20260319T170847Z
UID:3145-1787497200-1787504400@vvcf.org
SUMMARY:Drumming for a Cause
DESCRIPTION:Looking for a way to connect with your inner musician set to Mother Nature’s backdrop\, all while supporting a good cause? Then join us for Drumming for the Cause on Saturday\, August 23rd\, from 3:00-5:00 pm at the Eagle-Vail Pavilion! Proceeds directly benefit the Vail Valley Charitable Fund\, a local nonprofit that provides financial assistance to individuals and families suffering from a medical crisis. Since 1996\, the VVCF has raised and distributed $10 million to over 2\,400 locals in need. For 30 years\, the VVCF has been a trusted resource helping neighbors build financial resilience in the face of medical challenges. \nThis ‘Drumming for a Cause’ event will begin with grounding beats\, awakening the inner drummer by playing rhythm games\, and learning an African groove. Together\, attendees will create a community drum song and finish with a Silent Disco Jam featuring world music and\, of course\, good ol’ rock and roll. Whether you’re an experienced or brand-new drummer\, this rhythmic experience is fun and accessible to anyone. \nMountain Rhythms ​Founder Cathy Catlett Bethke will host the unique event. A certified Kripalu Yoga Instructor and Let Your Yoga Dance teacher\, Cathy danced professionally\, taught at Tucson Creative Dance Center\, and co-founded the Moving Center\, a cooperative dance studio.  Cathy has pursued creative movement\, yoga\, and drumming since her teenage years and has been a lifelong student of mental and physical health. \nIn 2017\, the work of Teen Cancer America\, founded by Roger Daltrey and Pete Townshend of the 70s classic rock band The Who\, inspired a new chapter in Cathy’s life. They develop spaces in hospitals uniquely dedicated to teens and young adults fighting cancer. These underserved young warriors need a place to overcome isolation and boredom and connect with peers facing cancer. ​ \n“Mountain Rhythms was created to bring joy\, healing and connection through drumming and rhythm programs\,” states Cathy Catlett Bethke\, Founder. “We’re thrilled to announce our 2nd Annual Drumming for a Cause event in support of the Vail Valley Charitable Fund. We are proud to partner with an organization whose compassionate work aligns so closely with our own. When a community comes together in rhythm\, something wonderful happens.” \n​Cathy has led programming at Children’s Hospital Colorado\, and currently leads creative movement and drumming programs at Roundup River Ranch and Jack’s Place\, a Cancer Caring House. \nSpace is limited for the ‘VVCF Drumming for a Cause’ event. There is a minimum suggested donation of $75\, which includes drums/hand percussions (though bring your own if you’d like)\, a cocktail or mocktail\, and heavy appetizers. Ages 21 and up only. \n100% of the proceeds benefit the Vail Valley Charitable Fund. For more information\, go to mountainrhythms.org.  Registration Link coming soon.
URL:https://vvcf.org/event/drumming-for-a-cause/
LOCATION:Eagle Vail Pavilion\, 538 Eagle Rd\, Avon\, CO\, 81620
ATTACH;FMTTYPE=image/jpeg:https://vvcf.org/wp-content/uploads/2026/03/Drumming-for-a-Cause.jpg
ORGANIZER;CN="Vail%20Valley%20Charitable%20Fund":MAILTO:brooke@vvcf.org
END:VEVENT
BEGIN:VEVENT
DTSTART;TZID=America/Denver:20261007T170000
DTEND;TZID=America/Denver:20261007T220000
DTSTAMP:20260419T232538
CREATED:20260318T213557Z
LAST-MODIFIED:20260318T213557Z
UID:3137-1791392400-1791410400@vvcf.org
SUMMARY:Bowling for Boobs
DESCRIPTION:Think friendly bowling competition collides with fabulous bites and drinks at Bol in Vail\, all to support the Vail Breast Cancer subgroup during Breast Cancer Awareness Month. Ticket options include Bowling Teams of 6 people or purchase a single Spectator Ticket. Both options include light appetizers\, a signature cocktail\, and access to our silent auction.\n\nEmail terri@vvcf.org if you have any questions.  Stay tuned for Registration Links.
URL:https://vvcf.org/event/bowling-for-boobs-3/
LOCATION:deca+bol\, 141 E Meadow Dr\, #113\, Vail\, CO\, 81657\, United States
ATTACH;FMTTYPE=image/png:https://vvcf.org/wp-content/uploads/2026/03/B4B-2026-Save-the-date.png
ORGANIZER;CN="Vail%20Valley%20Charitable%20Fund":MAILTO:brooke@vvcf.org
END:VEVENT
END:VCALENDAR