BEGIN:VCALENDAR
VERSION:2.0
PRODID:-//Vail Valley Charitable Fund - ECPv5.16.4//NONSGML v1.0//EN
CALSCALE:GREGORIAN
METHOD:PUBLISH
X-WR-CALNAME:Vail Valley Charitable Fund
X-ORIGINAL-URL:https://vvcf.org
X-WR-CALDESC:Events for Vail Valley Charitable Fund
BEGIN:VTIMEZONE
TZID:UTC
BEGIN:STANDARD
TZOFFSETFROM:+0000
TZOFFSETTO:+0000
TZNAME:UTC
DTSTART:20230101T000000
END:STANDARD
END:VTIMEZONE
BEGIN:VEVENT
DTSTART;TZID=UTC:20230819T160000
DTEND;TZID=UTC:20230819T200000
DTSTAMP:20260424T140405
CREATED:20210529T041510Z
LAST-MODIFIED:20230323T230201Z
UID:1391-1692460800-1692475200@vvcf.org
SUMMARY:Vail Valley Brew’au
DESCRIPTION:Buy Tickets HERE \nJoin us for the Vail Valley Brew’au in Avon’s Nottingham Park on August 19\, 2023!  To celebrate 27 years of giving\, we’re bringing the community together in traditional brew’au fashion.  What is a Brew’Au you may ask?  It is a beer festival combined with a lu’au\, of course!  This casual\, relaxed\, and family-friendly atmosphere will allow you to unwind\, connect with friends and family\, and enjoy the experience. \nWe will have live music\, food trucks\, breweries\, cideries\, fun for the kids\, and water lanterns (at dusk).  Drinking tickets will include unlimited samples of amazing beers and craft ciders – in your glass sampling cup to take home. \nTentative Schedule: \n\n4:00-8:00 pm: Kid’s activities\, chain saw art\, food trucks\, live music\, beer tasting\n4:00-5:30 pm: Live Music\n5:30pm-6:00pm: Hula Dancers\n6:00-8:00 pm: Live Music\n8:00-8:30 pm: Water Lanterns on the Lake\n\n \nTicket Prices – BUY YOUR TICKETS HERE \nGeneral Admission (5pm) $45 for Early Bird (thru 5/31)\, $49 for advance\, $59 on day of \nEarly Admission (4pm) $59 for advance\, $69 on day of \nNon-drinking- $20 for Early bird\, $25 for advance\, $30 on day of event \nKids 12 and under are free if accompanied by a ticket holder.
URL:https://vvcf.org/event/vail-valley-brewau/
LOCATION:Nottingham Park\, 414 W Beaver Creek Blvd\, Avon\, CO\, 81620\, United States
ATTACH;FMTTYPE=image/jpeg:https://vvcf.org/wp-content/uploads/2021/05/VV-Brewau-Logo-Color-01.jpg
ORGANIZER;CN="Vail%20Valley%20Charitable%20Fund":MAILTO:brooke@vvcf.org
END:VEVENT
END:VCALENDAR