BEGIN:VCALENDAR
VERSION:2.0
PRODID:-//Vail Valley Charitable Fund - ECPv5.16.4//NONSGML v1.0//EN
CALSCALE:GREGORIAN
METHOD:PUBLISH
X-WR-CALNAME:Vail Valley Charitable Fund
X-ORIGINAL-URL:https://vvcf.org
X-WR-CALDESC:Events for Vail Valley Charitable Fund
BEGIN:VTIMEZONE
TZID:America/Denver
BEGIN:DAYLIGHT
TZOFFSETFROM:-0700
TZOFFSETTO:-0600
TZNAME:MDT
DTSTART:20230312T090000
END:DAYLIGHT
BEGIN:STANDARD
TZOFFSETFROM:-0600
TZOFFSETTO:-0700
TZNAME:MST
DTSTART:20231105T080000
END:STANDARD
END:VTIMEZONE
BEGIN:VEVENT
DTSTART;VALUE=DATE:20231001
DTEND;VALUE=DATE:20231101
DTSTAMP:20260424T140318
CREATED:20231005T183522Z
LAST-MODIFIED:20231005T185457Z
UID:2174-1696118400-1698796799@vvcf.org
SUMMARY:Stoke & Rye - Community Table #207
DESCRIPTION:October Non-Profit Partner: The Vail Breast Cancer Group\nJoin us at the Community Table #207 this October to help support the Vail Breast Cancer Group to help commemorate National Breast Cancer Awareness Month. The Vail Breast Cancer Group’s mission is to help ease the financial and emotional burdens endured by those women in Eagle County who are battling breast cancer. A portion of proceeds from all revenue at the table for the month will benefit this non-profit. This table offers prime Beaver Creek Mountain views and seats parties of up to four people. \nTo book: https://www.stokeandrye.com/nonprofit-partner
URL:https://vvcf.org/event/stoke-rye-community-table-207/
LOCATION:The Westin Riverfront Resort & Spa\, Avon\, Vail Valley\, 126 Riverfront Lane\, Avon\, CO\, 81620
ATTACH;FMTTYPE=image/png:https://vvcf.org/wp-content/uploads/2023/10/stoke-and-rye.png
END:VEVENT
END:VCALENDAR