BEGIN:VCALENDAR
VERSION:2.0
PRODID:-//Vail Valley Charitable Fund - ECPv5.16.4//NONSGML v1.0//EN
CALSCALE:GREGORIAN
METHOD:PUBLISH
X-WR-CALNAME:Vail Valley Charitable Fund
X-ORIGINAL-URL:https://vvcf.org
X-WR-CALDESC:Events for Vail Valley Charitable Fund
BEGIN:VTIMEZONE
TZID:America/Denver
BEGIN:DAYLIGHT
TZOFFSETFROM:-0700
TZOFFSETTO:-0600
TZNAME:MDT
DTSTART:20220313T090000
END:DAYLIGHT
BEGIN:STANDARD
TZOFFSETFROM:-0600
TZOFFSETTO:-0700
TZNAME:MST
DTSTART:20221106T080000
END:STANDARD
END:VTIMEZONE
BEGIN:VEVENT
DTSTART;VALUE=DATE:20221206
DTEND;VALUE=DATE:20221207
DTSTAMP:20260424T140439
CREATED:20220823T202021Z
LAST-MODIFIED:20220823T224201Z
UID:1825-1670284800-1670371199@vvcf.org
SUMMARY:Colorado Gives Day
DESCRIPTION:Ready\, Set\, GIVE: Dec 6\, 2022\nDon’t miss out on Colorado’s largest day of giving!\nNonprofits are the backbone of Colorado’s thriving communities. And YOU are the backbone of the Vail Valley Charitable Fund. We are lucky to have the support of local businesses\, governments\, and grant funders – the truth is that individual donors like you provide us with most of our funding each year. YOU fuel our direct aid program to help neighbors in need. Schedule your donation today at ColoradoGives.org.
URL:https://vvcf.org/event/colorado-gives-day/
ATTACH;FMTTYPE=image/png:https://vvcf.org/wp-content/uploads/2022/08/CFF_COGivesDay_Logo_2022_Horizontal_RGB.png
ORGANIZER;CN="Vail%20Valley%20Charitable%20Fund":MAILTO:brooke@vvcf.org
END:VEVENT
END:VCALENDAR